BEGIN:VCALENDAR
VERSION:2.0
PRODID:-//OutDoorHouse aono - ECPv6.15.20//NONSGML v1.0//EN
CALSCALE:GREGORIAN
METHOD:PUBLISH
X-WR-CALNAME:OutDoorHouse aono
X-ORIGINAL-URL:https://outdoorhouse-aono.com
X-WR-CALDESC:OutDoorHouse aono のイベント
REFRESH-INTERVAL;VALUE=DURATION:PT1H
X-Robots-Tag:noindex
X-PUBLISHED-TTL:PT1H
BEGIN:VTIMEZONE
TZID:Asia/Tokyo
BEGIN:STANDARD
TZOFFSETFROM:+0900
TZOFFSETTO:+0900
TZNAME:JST
DTSTART:20240101T000000
END:STANDARD
END:VTIMEZONE
BEGIN:VEVENT
DTSTART;VALUE=DATE:20251207
DTEND;VALUE=DATE:20251208
DTSTAMP:20260423T073442
CREATED:20250630T061332Z
LAST-MODIFIED:20250630T061332Z
UID:395-1765065600-1765151999@outdoorhouse-aono.com
SUMMARY:アオノオープン　チャンピオンシップ
DESCRIPTION:
URL:https://outdoorhouse-aono.com/event/%e3%82%a2%e3%82%aa%e3%83%8e%e3%82%aa%e3%83%bc%e3%83%97%e3%83%b3%e3%80%80%e3%83%81%e3%83%a3%e3%83%b3%e3%83%94%e3%82%aa%e3%83%b3%e3%82%b7%e3%83%83%e3%83%97/
END:VEVENT
BEGIN:VEVENT
DTSTART;VALUE=DATE:20251109
DTEND;VALUE=DATE:20251110
DTSTAMP:20260423T073442
CREATED:20250630T061252Z
LAST-MODIFIED:20250630T061252Z
UID:393-1762646400-1762732799@outdoorhouse-aono.com
SUMMARY:アオノオープン　第5戦
DESCRIPTION:
URL:https://outdoorhouse-aono.com/event/%e3%82%a2%e3%82%aa%e3%83%8e%e3%82%aa%e3%83%bc%e3%83%97%e3%83%b3%e3%80%80%e7%ac%ac5%e6%88%a6/
END:VEVENT
BEGIN:VEVENT
DTSTART;VALUE=DATE:20251019
DTEND;VALUE=DATE:20251020
DTSTAMP:20260423T073442
CREATED:20250630T061214Z
LAST-MODIFIED:20250630T061214Z
UID:391-1760832000-1760918399@outdoorhouse-aono.com
SUMMARY:アオノオープン　第4戦
DESCRIPTION:
URL:https://outdoorhouse-aono.com/event/%e3%82%a2%e3%82%aa%e3%83%8e%e3%82%aa%e3%83%bc%e3%83%97%e3%83%b3%e3%80%80%e7%ac%ac4%e6%88%a6/
END:VEVENT
BEGIN:VEVENT
DTSTART;VALUE=DATE:20250803
DTEND;VALUE=DATE:20250804
DTSTAMP:20260423T073442
CREATED:20250630T054915Z
LAST-MODIFIED:20250630T061124Z
UID:376-1754179200-1754265599@outdoorhouse-aono.com
SUMMARY:アオノオープン　第3戦
DESCRIPTION:
URL:https://outdoorhouse-aono.com/event/%e3%82%a2%e3%82%aa%e3%83%8e%e3%82%aa%e3%83%bc%e3%83%97%e3%83%b3%e3%80%80%e7%ac%ac%e4%b8%89%e6%88%a6/
END:VEVENT
BEGIN:VEVENT
DTSTART;VALUE=DATE:20250615
DTEND;VALUE=DATE:20250616
DTSTAMP:20260423T073442
CREATED:20250630T055839Z
LAST-MODIFIED:20250630T055839Z
UID:383-1749945600-1750031999@outdoorhouse-aono.com
SUMMARY:アオノオープン　第２戦
DESCRIPTION:
URL:https://outdoorhouse-aono.com/event/%e3%82%a2%e3%82%aa%e3%83%8e%e3%82%aa%e3%83%bc%e3%83%97%e3%83%b3%e3%80%80%e7%ac%ac%ef%bc%92%e6%88%a6/
END:VEVENT
END:VCALENDAR