BEGIN:VCALENDAR
VERSION:2.0
PRODID:-//OutDoorHouse aono - ECPv6.15.20//NONSGML v1.0//EN
CALSCALE:GREGORIAN
METHOD:PUBLISH
X-ORIGINAL-URL:https://outdoorhouse-aono.com
X-WR-CALDESC:OutDoorHouse aono のイベント
REFRESH-INTERVAL;VALUE=DURATION:PT1H
X-Robots-Tag:noindex
X-PUBLISHED-TTL:PT1H
BEGIN:VTIMEZONE
TZID:Asia/Tokyo
BEGIN:STANDARD
TZOFFSETFROM:+0900
TZOFFSETTO:+0900
TZNAME:JST
DTSTART:20240101T000000
END:STANDARD
END:VTIMEZONE
BEGIN:VEVENT
DTSTART;VALUE=DATE:20251207
DTEND;VALUE=DATE:20251208
DTSTAMP:20260423T020256
CREATED:20250630T061332Z
LAST-MODIFIED:20250630T061332Z
UID:395-1765065600-1765151999@outdoorhouse-aono.com
SUMMARY:アオノオープン　チャンピオンシップ
DESCRIPTION:
URL:https://outdoorhouse-aono.com/event/%e3%82%a2%e3%82%aa%e3%83%8e%e3%82%aa%e3%83%bc%e3%83%97%e3%83%b3%e3%80%80%e3%83%81%e3%83%a3%e3%83%b3%e3%83%94%e3%82%aa%e3%83%b3%e3%82%b7%e3%83%83%e3%83%97/
END:VEVENT
END:VCALENDAR